BEGIN:VCALENDAR
VERSION:2.0
PRODID:icalendar-ruby
CALSCALE:GREGORIAN
BEGIN:VEVENT
DTSTAMP:20260425T224331Z
UID:25a58018-ad7e-43c3-b060-4ce588d8b417
DTSTART;VALUE=DATE:20260205
DESCRIPTION:Property ID# 602247\, Locatoin: 30 Bay Rd\, Kilbirnie\, Time: 1
 :00PM
SUMMARY:Auction for 
END:VEVENT
END:VCALENDAR
