BEGIN:VCALENDAR
VERSION:2.0
PRODID:icalendar-ruby
CALSCALE:GREGORIAN
BEGIN:VEVENT
DTSTAMP:20260425T224201Z
UID:bb7b7784-51b8-415b-9331-aed0b2a20a20
DTSTART;VALUE=DATE:20250807
DESCRIPTION:Property ID# 595012\, Locatoin: 30 Bay Rd\, Kilbirnie\, Time: 1
 :00PM
SUMMARY:Auction for 
END:VEVENT
END:VCALENDAR
