BEGIN:VCALENDAR
VERSION:2.0
PRODID:icalendar-ruby
CALSCALE:GREGORIAN
BEGIN:VEVENT
DTSTAMP:20260425T224057Z
UID:4953fb02-8e3e-4e03-9510-11523b292175
DTSTART;VALUE=DATE:20250711
DESCRIPTION:Property ID# 593427\, Locatoin: 30 Bay Rd\, Kilbirnie\, Time: 1
 :00PM
SUMMARY:Auction for 
END:VEVENT
END:VCALENDAR
