BEGIN:VCALENDAR
VERSION:2.0
PRODID:icalendar-ruby
CALSCALE:GREGORIAN
BEGIN:VEVENT
DTSTAMP:20260425T224238Z
UID:aa4f0bb6-c94d-4c1b-9535-d2f05edb6ad8
DTSTART;VALUE=DATE:20250612
DESCRIPTION:Property ID# 593108\, Locatoin: 30 Bay Rd\, Kilbirnie\, Time: 1
 :00PM
SUMMARY:Auction for 
END:VEVENT
END:VCALENDAR
