BEGIN:VCALENDAR
VERSION:2.0
PRODID:icalendar-ruby
CALSCALE:GREGORIAN
BEGIN:VEVENT
DTSTAMP:20260425T223935Z
UID:36547e32-c7f5-4d82-9db7-cdad1f649045
DTSTART;VALUE=DATE:20250626
DESCRIPTION:Property ID# 592148\, Locatoin: 30 Bay Rd\, Kilbirnie\, Time: 1
 2:00PM
SUMMARY:Auction for 
END:VEVENT
END:VCALENDAR
