BEGIN:VCALENDAR
VERSION:2.0
PRODID:icalendar-ruby
CALSCALE:GREGORIAN
BEGIN:VEVENT
DTSTAMP:20260425T104826Z
UID:6b817e98-f6ab-4438-aea9-eaa9803d09bd
DTSTART;VALUE=DATE:20250430
DESCRIPTION:Property ID# 591023\, Locatoin: Harcourts Wellington City Offic
 e (unless sold prior)\, Time: 2:00PM
SUMMARY:Auction for 
END:VEVENT
END:VCALENDAR
