BEGIN:VCALENDAR
VERSION:2.0
PRODID:icalendar-ruby
CALSCALE:GREGORIAN
BEGIN:VEVENT
DTSTAMP:20260425T224119Z
UID:3ca5bdc9-c0e8-4438-ad23-bd5057434094
DTSTART;VALUE=DATE:20250403
DESCRIPTION:Property ID# 589759\, Locatoin: 30 Bay Rd\, Kilbirnie\, Time: 1
 :00PM
SUMMARY:Auction for 
END:VEVENT
END:VCALENDAR
