BEGIN:VCALENDAR
VERSION:2.0
PRODID:icalendar-ruby
CALSCALE:GREGORIAN
BEGIN:VEVENT
DTSTAMP:20260425T224519Z
UID:bb990d9a-76c5-4435-b04d-bdadf10ea29d
DTSTART;VALUE=DATE:20250327
DESCRIPTION:Property ID# 589117\, Locatoin: Ray White Johnsonville (not sel
 ling prior)\, Time: 1:00PM
SUMMARY:Auction for 
END:VEVENT
END:VCALENDAR
