BEGIN:VCALENDAR
VERSION:2.0
PRODID:icalendar-ruby
CALSCALE:GREGORIAN
BEGIN:VEVENT
DTSTAMP:20260425T224724Z
UID:50e3aa39-8c24-4603-8916-6531c3b0db68
DTSTART;VALUE=DATE:20250227
DESCRIPTION:Property ID# 587648\, Locatoin: 30 By Rd\, Kilbirnie\, Time: 1:
 00PM
SUMMARY:Auction for 
END:VEVENT
END:VCALENDAR
