BEGIN:VCALENDAR
VERSION:2.0
PRODID:icalendar-ruby
CALSCALE:GREGORIAN
BEGIN:VEVENT
DTSTAMP:20260425T224637Z
UID:b7e81eeb-61dd-4114-bb5d-dee28f95faf5
DTSTART;VALUE=DATE:20250213
DESCRIPTION:Property ID# 587230\, Time: 1:00PM
SUMMARY:Auction for 
END:VEVENT
END:VCALENDAR
