BEGIN:VCALENDAR
VERSION:2.0
PRODID:icalendar-ruby
CALSCALE:GREGORIAN
BEGIN:VEVENT
DTSTAMP:20260425T223813Z
UID:a09ec731-fc30-4f4d-9192-4132df3ce9a4
DTSTART;VALUE=DATE:20240522
DESCRIPTION:Property ID# 575194\, Locatoin: 30 Bay Rd\, Kilbirnie\, Time: 1
 :00PM
SUMMARY:Auction for 
END:VEVENT
END:VCALENDAR
