BEGIN:VCALENDAR
VERSION:2.0
PRODID:icalendar-ruby
CALSCALE:GREGORIAN
BEGIN:VEVENT
DTSTAMP:20260425T224016Z
UID:dd493115-f793-45ed-b184-4c69ad60d8e8
DTSTART;VALUE=DATE:20240404
DESCRIPTION:Property ID# 572432\, Locatoin: 30 Bay Rd\, Kilbirnie\, Time: 1
 :00PM
SUMMARY:Auction for 
END:VEVENT
END:VCALENDAR
