BEGIN:VCALENDAR
VERSION:2.0
PRODID:icalendar-ruby
CALSCALE:GREGORIAN
BEGIN:VEVENT
DTSTAMP:20260424T044117Z
UID:9f7ab3da-d1f2-4a66-bca2-c4013abf30ca
DTSTART;VALUE=DATE:20210804
DESCRIPTION:Property ID# 514185\, Time: 1:00PM
SUMMARY:Auction for 
END:VEVENT
END:VCALENDAR
