BEGIN:VCALENDAR
VERSION:2.0
PRODID:icalendar-ruby
CALSCALE:GREGORIAN
BEGIN:VEVENT
DTSTAMP:20260423T122105Z
UID:1fe23876-beb9-494c-821e-76d5f8808920
DTSTART;VALUE=DATE:20210601
DESCRIPTION:Property ID# 510162\, Time: 4:00PM
SUMMARY:Auction for 
END:VEVENT
END:VCALENDAR
