BEGIN:VCALENDAR
VERSION:2.0
PRODID:icalendar-ruby
CALSCALE:GREGORIAN
BEGIN:VEVENT
DTSTAMP:20260424T062550Z
UID:c45b94d7-ed72-4b6c-8ed2-017055729841
DTSTART;VALUE=DATE:20201212
DESCRIPTION:Property ID# 496040\, Locatoin: On Site\, Time: 11:00AM
SUMMARY:Auction for 
END:VEVENT
END:VCALENDAR
