BEGIN:VCALENDAR
VERSION:2.0
PRODID:icalendar-ruby
CALSCALE:GREGORIAN
BEGIN:VEVENT
DTSTAMP:20260425T224652Z
UID:62495bed-437d-47ca-bb5f-a504874cbdff
DTSTART;VALUE=DATE:20191217
DESCRIPTION:Property ID# 467966\, Time: 12:00PM
SUMMARY:Auction for 
END:VEVENT
END:VCALENDAR
