BEGIN:VCALENDAR
VERSION:2.0
PRODID:icalendar-ruby
CALSCALE:GREGORIAN
BEGIN:VEVENT
DTSTAMP:20260425T224015Z
UID:92c5df3b-8d15-4103-afdb-ca767ea093a2
DTSTART;VALUE=DATE:20191003
DESCRIPTION:Property ID# 461780\, Locatoin: Ray White Khandallah office\, T
 ime: 1:00PM
SUMMARY:Auction for 
END:VEVENT
END:VCALENDAR
