BEGIN:VCALENDAR
VERSION:2.0
PRODID:icalendar-ruby
CALSCALE:GREGORIAN
BEGIN:VEVENT
DTSTAMP:20260425T223859Z
UID:15250197-bcd7-406a-ae0e-4f9da91ed8f2
DTSTART;VALUE=DATE:20190821
DESCRIPTION:Property ID# 459163\, Locatoin: Ray White Kilbirnie office\, 30
  Bay Road\, Kilbirnie\, Wellington\, Time: 1:00PM
SUMMARY:Auction for 
END:VEVENT
END:VCALENDAR
